BEGIN:VCALENDAR
VERSION:2.0
PRODID:-//The Quest - ECPv6.8.2.1//NONSGML v1.0//EN
CALSCALE:GREGORIAN
METHOD:PUBLISH
X-WR-CALNAME:The Quest
X-ORIGINAL-URL:https://www.staging.thequestawaitsyou.com
X-WR-CALDESC:Events for The Quest
REFRESH-INTERVAL;VALUE=DURATION:PT1H
X-Robots-Tag:noindex
X-PUBLISHED-TTL:PT1H
BEGIN:VTIMEZONE
TZID:UTC
BEGIN:STANDARD
TZOFFSETFROM:+0000
TZOFFSETTO:+0000
TZNAME:UTC
DTSTART:20130101T000000
END:STANDARD
END:VTIMEZONE
BEGIN:VEVENT
DTSTART;TZID=UTC:20130912T184500
DTEND;TZID=UTC:20130912T220000
DTSTAMP:20260419T160211
CREATED:20130816T130701Z
LAST-MODIFIED:20130829T202945Z
UID:10000033-1379011500-1379023200@www.staging.thequestawaitsyou.com
SUMMARY:Outing to the theatre (The Pride)
DESCRIPTION:We have organised a visit to the theater on Thursday 12 September (7.30pm) to see – The Pride. The theme of the play resonates with many of the topics explored on The Quest Workshop. Why not join us; we will be meeting in the theatre bar from 6.45pm. \nIf you are planning to come along\, you can email Ade (ade@thequestawaitsyou.com) to let him know you will be joining. \nYou can book your ticket here. \n  \n  \n 
URL:https://www.staging.thequestawaitsyou.com/event/night-at-the-theatre/
LOCATION:Unnamed Venue\, 14 Whitehall\, London \, SW1A 2DY\, United Kingdom
CATEGORIES:High Viz
ATTACH;FMTTYPE=image/jpeg:https://www.staging.thequestawaitsyou.com/wp-content/uploads/2013/08/image.jpg
ORGANIZER;CN="The Hi-Viz Team":MAILTO:engage@thequestawaitsyou.com
END:VEVENT
END:VCALENDAR