BEGIN:VCALENDAR
VERSION:2.0
PRODID:-//The Quest - ECPv6.8.2.1//NONSGML v1.0//EN
CALSCALE:GREGORIAN
METHOD:PUBLISH
X-ORIGINAL-URL:https://www.staging.thequestawaitsyou.com
X-WR-CALDESC:Events for The Quest
REFRESH-INTERVAL;VALUE=DURATION:PT1H
X-Robots-Tag:noindex
X-PUBLISHED-TTL:PT1H
BEGIN:VTIMEZONE
TZID:UTC
BEGIN:STANDARD
TZOFFSETFROM:+0000
TZOFFSETTO:+0000
TZNAME:UTC
DTSTART:20130101T000000
END:STANDARD
END:VTIMEZONE
BEGIN:VEVENT
DTSTART;TZID=UTC:20131025T183000
DTEND;TZID=UTC:20131025T213000
DTSTAMP:20260422T062512
CREATED:20130817T075906Z
LAST-MODIFIED:20130817T075906Z
UID:10000024-1382725800-1382736600@www.staging.thequestawaitsyou.com
SUMMARY:Rainbow Intersection - Panel Event
DESCRIPTION:Online Ticketing for The Rainbow Intersection – a dialogue about Race\, Culture and Sexuality powered by Eventbrite
URL:https://www.staging.thequestawaitsyou.com/event/rainbow-intersection-panel-event/
LOCATION:University College London\, Gower Street\, London \, WC1E 6BT\, United Kingdom
END:VEVENT
END:VCALENDAR