BEGIN:VCALENDAR
VERSION:2.0
PRODID:-//The Quest - ECPv6.8.2.1//NONSGML v1.0//EN
CALSCALE:GREGORIAN
METHOD:PUBLISH
X-ORIGINAL-URL:https://www.staging.thequestawaitsyou.com
X-WR-CALDESC:Events for The Quest
REFRESH-INTERVAL;VALUE=DURATION:PT1H
X-Robots-Tag:noindex
X-PUBLISHED-TTL:PT1H
BEGIN:VTIMEZONE
TZID:Europe/Paris
BEGIN:DAYLIGHT
TZOFFSETFROM:+0100
TZOFFSETTO:+0200
TZNAME:CEST
DTSTART:20210328T010000
END:DAYLIGHT
BEGIN:STANDARD
TZOFFSETFROM:+0200
TZOFFSETTO:+0100
TZNAME:CET
DTSTART:20211031T010000
END:STANDARD
END:VTIMEZONE
BEGIN:VEVENT
DTSTART;TZID=Europe/Paris:20210919T140000
DTEND;TZID=Europe/Paris:20210919T160000
DTSTAMP:20260423T103750
CREATED:20210827T094740Z
LAST-MODIFIED:20220830T130015Z
UID:10000198-1632060000-1632067200@www.staging.thequestawaitsyou.com
SUMMARY:The Quest Picnic
DESCRIPTION:Re Unite\, Re Emerge Re Discover \nWhether you are part of our community or a curious newcomer you are cordially invited to our gathering to celebrate the power of connection… in person!There will be familiar faces and new faces at this ‘bring your own’ picnic in Hyde Park. \nGathering on Sunday 19th September at 2pm – 4pm DUE TO RAIN WE WILL BE MEETING AT Hyde Park BANDSTAND ( look out for the balloons) \nQuest founders Ade and Darren and Remarkable Men facilitator Jonathan Ward will be hosting the event – welcoming anyone looking for an afternoon of warmth and connection. \nIf you have attended any of our programs ( Quest Wednesdays\, Quest Mosaic\, Remarkable Men\, Great Gay Getaways\, The Quest Program ) it will be wonderful to see you again \nIf you have been to our virtual Quest Wednesdays it will be fantastic to see you in person \nIf you have heard about Quest but never been to any of our events you will receive a warm welcome. \nPlease bring food to share\, drinks and a blanket.(Also required: Humour\, warmth and generosity.)
URL:https://www.staging.thequestawaitsyou.com/event/the-quest-picnic-2/
LOCATION:Hyde Park Bandstand\, London\, gb
CATEGORIES:Quest Mosaic,Quest Wednesdays
ATTACH;FMTTYPE=image/jpeg:https://www.staging.thequestawaitsyou.com/wp-content/uploads/2021/08/highres_498421296-aajTtG.tmp_.jpg
GEO:51.505012512207;-0.1564580053091
END:VEVENT
BEGIN:VEVENT
DTSTART;TZID=Europe/Paris:20210919T140000
DTEND;TZID=Europe/Paris:20210919T160000
DTSTAMP:20260423T103750
CREATED:20210826T094711Z
LAST-MODIFIED:20220830T125930Z
UID:10000197-1632060000-1632067200@www.staging.thequestawaitsyou.com
SUMMARY:The Quest Picnic
DESCRIPTION:Whether you are part of our community or a curious newcomer you are cordially invited to our gathering to celebrate the power of connection… in person! There will be familiar faces and new faces at this ‘bring your own’ picnic in Hyde Park. \nGathering on Sunday 19th September at 2pm – 4pm at Hyde Park – DUE TO RAIN WE WILL NOW BE GATHERING AT THE BANDSTAND ( look out for the balloons) \nThe Quest founders Ade and Darren + Remarkable Men facilitator Jonathan Ward will be hosting the event – welcoming anyone looking for an afternoon of warmth and connection. \nA short video conversation discussing this event: https://youtu.be/k3wgeyXbHcE \nIf you have attended any of our programs it will be wonderful to see you again. If you have been to our virtual Quest Wednesdays it will be fantastic to see you in person. If you have heard about Quest but never been to any of our events you will receive a warm welcome. \nPlease bring food to share\, drinks and a blanket.(Also required: Humour\, warmth and generosity.)
URL:https://www.staging.thequestawaitsyou.com/event/the-quest-picnic/
LOCATION:Hyde Park Bandstand\, London\, gb
CATEGORIES:Quest Wednesdays
ATTACH;FMTTYPE=image/jpeg:https://www.staging.thequestawaitsyou.com/wp-content/uploads/2021/08/highres_498393526-jZl0Lg.tmp_.jpg
GEO:51.505012512207;-0.1564580053091
END:VEVENT
END:VCALENDAR