BEGIN:VCALENDAR
VERSION:2.0
PRODID:-//The Quest - ECPv6.8.2.1//NONSGML v1.0//EN
CALSCALE:GREGORIAN
METHOD:PUBLISH
X-ORIGINAL-URL:https://www.staging.thequestawaitsyou.com
X-WR-CALDESC:Events for The Quest
REFRESH-INTERVAL;VALUE=DURATION:PT1H
X-Robots-Tag:noindex
X-PUBLISHED-TTL:PT1H
BEGIN:VTIMEZONE
TZID:+01:00
END:VTIMEZONE
BEGIN:VEVENT
DTSTART;TZID=+01:00:20250903T190000
DTEND;TZID=+01:00:20250903T203000
DTSTAMP:20260420T073922
CREATED:20250701T000907Z
LAST-MODIFIED:20250903T111801Z
UID:10000368-1756926000-1756931400@www.staging.thequestawaitsyou.com
SUMMARY:The Quest Wednesday: Rest + Renewal: What becomes possible when I slow down
DESCRIPTION:The Quest Wednesdays are bi monthly (virtual) gatherings bringing together gay\, bi & queer men to pause\, connect and have wholehearted conversations. The sessions are facilitated by the Quest team headed by Adé Adéniji & Darren Brady\, Founders of The Quest Collective.\nDuring our time together there will be opportunities to participate in small breakout groups to muse and reflect on the theme and respond to some exploratory questions. \nThis weeks theme: Rest + Renewal: What becomes possible when I slow down \nWe gather from 18.50 and start promptly at 7pm.( Participants will not be allowed to join after the group commitments at the beginning of the session have been made.) There will also be the opportunity to ask questions at the end of the facilitated part of the evening. \nThe gatherings will take place online\, via Zoom – the web-based video conferencing tool. You need to RSVP.\n[https://us02web.zoom.us/meeting/register/SEhmgv6JRAeR49eEeKiWlQ#/registration](https://us02web.zoom.us/meeting/register/SEhmgv6JRAeR49eEeKiWlQ#/registration)\nParticipation is FREE but as a not for profit organisation with no funding we do ask for people to support The Quest with a pay what you can donation. [Make a donation.](https://donate.stripe.com/6oE6q1bNocGS7Xq5kk)
URL:https://www.staging.thequestawaitsyou.com/event/the-quest-wednesday-rest-renewal-what-becomes-possible-when-i-slow-down/
LOCATION:Online event
CATEGORIES:Quest Wednesdays
ATTACH;FMTTYPE=image/jpeg:https://www.staging.thequestawaitsyou.com/wp-content/uploads/2024/01/1024x576-dCm3g6.tmp_.jpg
GEO:-8.521147;179.1962
END:VEVENT
END:VCALENDAR