BEGIN:VCALENDAR
VERSION:2.0
PRODID:-//The Quest - ECPv6.8.2.1//NONSGML v1.0//EN
CALSCALE:GREGORIAN
METHOD:PUBLISH
X-ORIGINAL-URL:https://www.staging.thequestawaitsyou.com
X-WR-CALDESC:Events for The Quest
REFRESH-INTERVAL;VALUE=DURATION:PT1H
X-Robots-Tag:noindex
X-PUBLISHED-TTL:PT1H
BEGIN:VTIMEZONE
TZID:+01:00
END:VTIMEZONE
BEGIN:VEVENT
DTSTART;TZID=+01:00:20220615T190000
DTEND;TZID=+01:00:20220615T203000
DTSTAMP:20260426T005356
CREATED:20220517T201002Z
LAST-MODIFIED:20220830T125930Z
UID:10000251-1655319600-1655325000@www.staging.thequestawaitsyou.com
SUMMARY:The Quest Wednesdays (Theme: Light Lounge )
DESCRIPTION:The Quest Wednesdays are bi monthly (virtual) gatherings bringing together gay\, bi & queer men to pause\, connect and have wholehearted conversations. \nThe Lite Lounge sessions have 5 themed rooms for participants to choose from. The gatherings are facilitated by the Quest Community Team and supported by Adé Adéniji & Darren Brady\, Founders of The Quest for Gay Men. \nDuring our time together there will be opportunities to participate in small breakout groups to muse and reflect on the room theme and then come back to the larger group. It is a relaxed format that encourages participants to share from their own unique perspective. \nThe gatherings will take place online\, via Zoom \nIn addition to your RSVP on meet-up\, you need to click on the on Zoom link below and enter the password:\n[https://us02web.zoom.us/j/84847837226?pwd=SVpzVllsdHJGa3dmemp5VlRteHdr1Hdz093](https://us02web.zoom.us/j/84847837226?pwd=SVpzVllsdHJGa3dmemp5VlRteHdr1Hdz093)\nPASSCODE: z0GUU0
URL:https://www.staging.thequestawaitsyou.com/event/the-quest-wednesdays-theme-light-lounge-13/
LOCATION:Online event
CATEGORIES:Quest Wednesdays
ATTACH;FMTTYPE=image/jpeg:https://www.staging.thequestawaitsyou.com/wp-content/uploads/2022/02/1024x576-O5QEnd.tmp_.jpg
GEO:-8.521147;179.1962
END:VEVENT
BEGIN:VEVENT
DTSTART;TZID=+01:00:20220619T130000
DTEND;TZID=+01:00:20220619T160000
DTSTAMP:20260426T005356
CREATED:20220517T201002Z
LAST-MODIFIED:20220720T093932Z
UID:10000252-1655643600-1655654400@www.staging.thequestawaitsyou.com
SUMMARY:The Quest Tea Party ( with sponsored cakes from Konditor )
DESCRIPTION:**Join us for a convivial in person get together to *share the ‘T’.*** \nThe Quest Founders Ade and Darren will be hosting this wholehearted event – a chance for familiar faces and total newcomers to come together to enjoy engaging conversations and (optional ) fun games. \n[Ade + Darren talk about the Tea Party (3 mins)](https://www.youtube.com/watch?v=EKIftrCP69w) \nThe Quest will be hosting 4 socials a year – make a diary date to join us!\nIts **free to attend** and we gather between 1pm – 4pm. \nOur supporters – the incredible cake makers [Konditor](https://konditor.co.uk) are once again supplying a rainbow themed selection of sweet goodies for your pleasure\nSo please don’t miss out on your fairy cake fix! \n[For your free invitation click here](https://www.eventbrite.co.uk/e/the-quest-tea-party-for-gay-bi-queer-men-tickets-303435141677) \n* **Generously supported by The National Lottery**
URL:https://www.staging.thequestawaitsyou.com/event/the-quest-tea-party-with-sponsored-cakes-from-konditor/
LOCATION:30 Clerkenwell Grn\, 30 Clerkenwell Green\, London\, EC1R 0DU\, gb
CATEGORIES:Social events
ATTACH;FMTTYPE=image/jpeg:https://www.staging.thequestawaitsyou.com/wp-content/uploads/2022/04/1024x576-gVg5yX.tmp_.jpg
GEO:51.522793;-0.106223
X-APPLE-STRUCTURED-LOCATION;VALUE=URI;X-ADDRESS=30 Clerkenwell Grn 30 Clerkenwell Green London EC1R 0DU gb;X-APPLE-RADIUS=500;X-TITLE=30 Clerkenwell Green:geo:-0.106223,51.522793
END:VEVENT
END:VCALENDAR