BEGIN:VCALENDAR
VERSION:2.0
PRODID:-//The Quest - ECPv6.8.2.1//NONSGML v1.0//EN
CALSCALE:GREGORIAN
METHOD:PUBLISH
X-ORIGINAL-URL:https://www.staging.thequestawaitsyou.com
X-WR-CALDESC:Events for The Quest
REFRESH-INTERVAL;VALUE=DURATION:PT1H
X-Robots-Tag:noindex
X-PUBLISHED-TTL:PT1H
BEGIN:VTIMEZONE
TZID:Europe/London
BEGIN:DAYLIGHT
TZOFFSETFROM:+0000
TZOFFSETTO:+0100
TZNAME:BST
DTSTART:20220327T010000
END:DAYLIGHT
BEGIN:STANDARD
TZOFFSETFROM:+0100
TZOFFSETTO:+0000
TZNAME:GMT
DTSTART:20221030T010000
END:STANDARD
TZID:+01:00
END:VTIMEZONE
BEGIN:VEVENT
DTSTART;TZID=Europe/London:20220702T100000
DTEND;TZID=Europe/London:20220703T173000
DTSTAMP:20260420T083620
CREATED:20220324T170700Z
LAST-MODIFIED:20220825T131004Z
UID:10000238-1656756000-1656869400@www.staging.thequestawaitsyou.com
SUMMARY:Rising Strong™ Workshop for Gay\, Bi + Queer men (London - July 2022)
DESCRIPTION:Rising Strong™ Workshop for Gay\, Bi & Queer Men\n“The truth is that falling hurts. The dare is to keep being brave and feel your way back\n\n\nJoin us in July 2022 for Rising Strong™ Workshop for Gay\, Bi + Queer Men \n“The truth is that falling hurts. The dare is to keep being brave and feel your way back up” – Brené Brown \nRising Strong™ is a process based on the research of Dr. Brené Brown. Her pioneering work uncovered a profound truth: Vulnerability – the willingness to show up and be seen with no guarantee of outcome – is the only path to more love\, belonging\, creativity and joy. But living a brave life is not always easy: We are inevitably going to stumble and fall. \nThe Rising Strong™ process is about what it takes to get back up and how owning our stories of struggle gives us the power to write a daring new ending. \nFor over 10 years Ade and Darren have been delivering specially designed programs to the gay community and they are excited to bring this popular Brené Brown program to gay\, bi + queer participants. \nThis program has been generously supported by the Social Enterprise Support Fund from The National Lottery. Registration places are subsidised by this grant making it more affordable for the diverse range of participants we attract. \nTo secure your place please book early. \n3 minute video of Ade and Darren talking about Rising Strong \nRising Strong™ Workshop \nWe all go through struggle – asking somebody out that does not want us\, expressing our feelings and not being understood\, saying something at work that didn’t land very well; the list is endless – failing feels painful and can trigger shame\, disappointment and a whole range of emotions and thoughts. \nSometimes we avoid pursuing our heart desires because we fear failing. And sometimes when we do\, we don’t get back up and we give up. But if we want to break away from the crowd and live wholehearted lives\, we have to be courageous and different; doing this inevitable means we will sometimes fall. \nThis workshop is all about learning to get back up and how to become a highly resilient individual. How do we bounce back from failure? How do you recover from being exposed?   \nBy taking part in the Rising Strong™ Workshop you will learn how to apply the Rising Strong™ process to your day-to-day life and become empowered to write wholehearted new endings to your stories. You will also: \n\nBecome familiar with the physics of vulnerability and the ten rules of engagement for rising strong.\nIdentify the values that are most important in your life and learn why values clarification is essential to the development of resiliency.\nBecome familiar with the Rising Strong process and goals – rise from our falls\, overcome our mistakes\, and face hurt in a way that brings more wisdom and wholeheartedness to our lives.\nRaise your awareness about: the feelings associated with emotions\, your response to emotion\, and how emotion\, thought\, and behavior are interconnected.\nPractice and build skills to engage with and experience emotion\, including mindfulness and breathing.\nDeepen your emotional vocabulary and self-awareness\nComprehend that as humans\, we have meaning-making in our biology and are compelled to make up stories – even if they are based on incomplete information.\nReclaim and integrate orphaned parts of yourself and celebrate that wholeness through creative expression.\n\nThe Rising Strong™ workshop is an interactive mix of – \n\nPsycho experiential and educational exploration\nViewings of videos from Brené\, created specifically for Rising Strong™\nStorytelling\nGroup discussions\nCreative exercises\nCoaching\nSelf reflection and inquiry\n\nIncluded in the registration fee – \n\nYour personal Rising Strong™ workbook\nLight refreshments during the weekend\nPost workshop activity\nOptional coaching session with Darren Brady (to take place within 3 months of completion of the workshop)\n\n. \nDate: Saturday 2nd July (10am – 6pm) and Sunday 3rd July 2020 (10am – 5.30pm) \nFacilitators: Ade Adeniji and Darren Brady – Certified Daring Way™ Facilitators. \nwww.daringeurope.com \nABOUT BRENÉ BROWN \nDr. Brené Brown is a research professor at the University of Houston\, where she holds the Huffington Foundation Endowed Chair at the Graduate College of Social Work. Brené is also a visiting professor in management at the University of Texas at Austin McCombs School of Business. \nShe has spent the past two decades studying courage\, vulnerability\, shame\, and empathy; is the author of six #1 New York Times best sellers; and is the host of the weekly Spotify original podcasts Unlocking Us and Dare to Lead. \nBrené’s books have been translated into more than 30 languages\, and her titles include Atlas of the Heart\, Dare to Lead\, Braving the Wilderness\, Rising Strong\, Daring Greatly\, and The Gifts of Imperfection. With Tarana Burke\, she co-edited the best?selling anthology You Are Your Best Thing: Vulnerability\, Shame Resilience\, and the Black Experience. \nHer TED talk on the Power of Vulnerability is one of the top five most-viewed TED talks in the world\, with over 50 million views. She is also the first researcher to have a filmed lecture on Netflix. The Call to Courage special debuted on the streaming service in April 2019. \nBrené lives in Houston\, Texas\, with her husband\, Steve. They have two children\, Ellen and Charlie.
URL:https://www.staging.thequestawaitsyou.com/event/rising-strong-workshop-for-gay-bi-queer-men-london-july-2022/
LOCATION:Old Diorama Arts Centre\, 201 Drummond Street\, Regents Place\, London\, Greater London\, NW1 3FE\, United Kingdom
CATEGORIES:Brené Brown Programs,Daring Way Program
ATTACH;FMTTYPE=image/jpeg:https://www.staging.thequestawaitsyou.com/wp-content/uploads/2022/03/eef82acc7d2a94812060df3feb0ff962.jpg
GEO:51.525898;-0.140483
X-APPLE-STRUCTURED-LOCATION;VALUE=URI;X-ADDRESS=Old Diorama Arts Centre 201 Drummond Street Regents Place London Greater London NW1 3FE United Kingdom;X-APPLE-RADIUS=500;X-TITLE=201 Drummond Street\, Regents Place:geo:-0.140483,51.525898
END:VEVENT
BEGIN:VEVENT
DTSTART;TZID=+01:00:20220706T190000
DTEND;TZID=+01:00:20220706T203000
DTSTAMP:20260420T083620
CREATED:20220503T084125Z
LAST-MODIFIED:20220830T125930Z
UID:10000248-1657134000-1657139400@www.staging.thequestawaitsyou.com
SUMMARY:The Quest Wednesday (Theme: How school shaped me )
DESCRIPTION:The Quest Wednesdays are bi monthly (virtual) gatherings bringing together gay\, bi & queer men to pause\, connect and have wholehearted conversations. The sessions are facilitated by the Quest team headed by Adé Adéniji & Darren Brady\, Founders of The Quest for Gay Men. \nEach week a different theme will be the focal point of the gathering. During our time together there will be opportunities to participate in small breakout groups to muse and reflect on the theme and respond to some exploratory questions. \nThis weeks theme : How school shaped me \nWe gather from 18.50 and start promptly at 7pm.( Participants will not be allowed to join after the group commitments at the beginning of the session have been made.) There will also be the opportunity to ask questions at the end of the facilitated part of the evening. \nThe gatherings will take place online\, via Zoom – the web-based video conferencing tool. In addition to your RSVP on meet-up\, you need to register on Zoom here: \n[https://us02web.zoom.us/meeting/register/tZIkcOuuqjsiHNXgzNyfBsiWpOGPUT4ggufP](https://us02web.zoom.us/meeting/register/tZIkcOuuqjsiHNXgzNyfBsiWpOGPUT4ggufP)
URL:https://www.staging.thequestawaitsyou.com/event/the-quest-wednesday-theme-how-school-shaped-me/
LOCATION:Online event
CATEGORIES:Quest Wednesdays
ATTACH;FMTTYPE=image/jpeg:https://www.staging.thequestawaitsyou.com/wp-content/uploads/2022/02/1024x576-AHtANQ.tmp_.jpg
GEO:-8.521147;179.1962
END:VEVENT
BEGIN:VEVENT
DTSTART;TZID=+01:00:20220706T190000
DTEND;TZID=+01:00:20220706T203000
DTSTAMP:20260420T083620
CREATED:20220517T201002Z
LAST-MODIFIED:20220830T125929Z
UID:10000253-1657134000-1657139400@www.staging.thequestawaitsyou.com
SUMMARY:The Quest Wednesday (Theme: How school shaped me )
DESCRIPTION:The Quest Wednesdays are bi monthly (virtual) gatherings bringing together gay\, bi & queer men to pause\, connect and have wholehearted conversations. The sessions are facilitated by the Quest team headed by Adé Adéniji & Darren Brady\, Founders of The Quest for Gay Men. \nEach week a different theme will be the focal point of the gathering. During our time together there will be opportunities to participate in small breakout groups to muse and reflect on the theme and respond to some exploratory questions. \nThis weeks theme : How school shaped me \nWatch Ade and Darren talking about the theme: [https://youtu.be/xwr7dckSKF4](https://youtu.be/xwr7dckSKF4) (4 mins) \nWe gather from 18.50 and start promptly at 7pm.( Participants will not be allowed to join after the group commitments at the beginning of the session have been made.) There will also be the opportunity to ask questions at the end of the facilitated part of the evening. \nThe gatherings will take place online\, via Zoom – the web-based video conferencing tool. In addition to your RSVP on meet-up\, you need to register on Zoom here: \n[https://us02web.zoom.us/meeting/register/tZIkcOuuqjsiHNXgzNyfBsiWpOGPUT4ggufP](https://us02web.zoom.us/meeting/register/tZIkcOuuqjsiHNXgzNyfBsiWpOGPUT4ggufP)
URL:https://www.staging.thequestawaitsyou.com/event/the-quest-wednesday-theme-how-school-shaped-me-2/
LOCATION:Online event
CATEGORIES:Quest Wednesdays
ATTACH;FMTTYPE=image/jpeg:https://www.staging.thequestawaitsyou.com/wp-content/uploads/2022/02/1024x576-AHtANQ.tmp_.jpg
GEO:-8.521147;179.1962
END:VEVENT
BEGIN:VEVENT
DTSTART;TZID=+01:00:20220709T110000
DTEND;TZID=+01:00:20220709T123000
DTSTAMP:20260420T083620
CREATED:20220410T205130Z
LAST-MODIFIED:20220830T130015Z
UID:10000244-1657364400-1657369800@www.staging.thequestawaitsyou.com
SUMMARY:Joy\, Joyful & Joyous
DESCRIPTION:The Quest Mosaic are facilitated gatherings for Black\, Asian and Other Racialised Minority gay\, bi & queer men coming together to connect\, share experiences and build community. \nEach session has a different theme as the focal point\, with opportunities for attendees to participate in small breakout groups to muse\, reflect and respond to some exploratory questions. \nEach gathering is self-contained\, so attendees don’t need to have attended previous sessions. \nThe sessions are facilitated by Ade Adeniji & Sonny Thaker. \nThe theme for 9 July 2022 is ‘Joy’ \nYou need to register on Zoom to confirm attendance\, you can do so here [https://us02web.zoom.us/meeting/register/tZEkce-grT8tHNR_Ds7yE6pd1ccI2HsoLGma](https://us02web.zoom.us/meeting/register/tZEkce-grT8tHNR_Ds7yE6pd1ccI2HsoLGma)
URL:https://www.staging.thequestawaitsyou.com/event/joy-joyful-joyous/
LOCATION:Online event
CATEGORIES:Quest Mosaic
ATTACH;FMTTYPE=image/jpeg:https://www.staging.thequestawaitsyou.com/wp-content/uploads/2022/02/1024x576-S7DasF.tmp_.jpg
GEO:-8.521147;179.1962
END:VEVENT
BEGIN:VEVENT
DTSTART;TZID=+01:00:20220709T110000
DTEND;TZID=+01:00:20220709T123000
DTSTAMP:20260420T083620
CREATED:20220517T201003Z
LAST-MODIFIED:20220830T130015Z
UID:10000256-1657364400-1657369800@www.staging.thequestawaitsyou.com
SUMMARY:Joy\, Joyful & Joyous
DESCRIPTION:The Quest Mosaic are facilitated gatherings for Black\, Asian and Other Racialised Minority gay\, bi & queer men coming together to connect\, share experiences and build community. \nEach session has a different theme as the focal point\, with opportunities for attendees to participate in small breakout groups to muse\, reflect and respond to some exploratory questions. \nEach gathering is self-contained\, so attendees don’t need to have attended previous sessions. \nThe sessions are facilitated by Ade Adeniji & Sonny Thaker. \nThe theme for 9 July 2022 is ‘Joy’ \nYou need to register on Zoom to confirm attendance\, you can do so here [https://us02web.zoom.us/meeting/register/tZEkce-grT8tHNR_Ds7yE6pd1ccI2HsoLGma](https://us02web.zoom.us/meeting/register/tZEkce-grT8tHNR_Ds7yE6pd1ccI2HsoLGma)
URL:https://www.staging.thequestawaitsyou.com/event/joy-joyful-joyous-2/
LOCATION:Online event
CATEGORIES:Quest Mosaic
ATTACH;FMTTYPE=image/jpeg:https://www.staging.thequestawaitsyou.com/wp-content/uploads/2022/02/1024x576-S7DasF.tmp_.jpg
GEO:-8.521147;179.1962
END:VEVENT
BEGIN:VEVENT
DTSTART;TZID=+01:00:20220720T190000
DTEND;TZID=+01:00:20220720T203000
DTSTAMP:20260420T083620
CREATED:20220517T201002Z
LAST-MODIFIED:20220830T125929Z
UID:10000254-1658343600-1658349000@www.staging.thequestawaitsyou.com
SUMMARY:The Quest Wednesdays (Theme: Light Lounge )
DESCRIPTION:The Quest Wednesdays are bi monthly (virtual) gatherings bringing together gay\, bi & queer men to pause\, connect and have wholehearted conversations. \nThe Lite Lounge sessions have 5 themed rooms (pleasure/pain\, objects of desire\, tradition versus technology\, that time when I was so proud of being gay…\, anything goes) for participants to choose from. The gatherings are facilitated by the Quest Community Team and supported by Adé Adéniji & Darren Brady\, Founders of The Quest for Gay Men. \nDuring our time together there will be opportunities to participate in small breakout groups to muse and reflect on the room theme and then come back to the larger group. It is a relaxed format that encourages participants to share from their own unique perspective. \nThe gatherings will take place online\, via Zoom \nIn addition to your RSVP on meet-up\, you need to click on the on Zoom link below and enter the password:\n[https://us02web.zoom.us/j/84847837226?pwd=SVpzVllsdHJGa3dmemp5VlRteHdr1Hdz093](https://us02web.zoom.us/j/84847837226?pwd=SVpzVllsdHJGa3dmemp5VlRteHdr1Hdz093)\nPASSCODE: z0GUU0
URL:https://www.staging.thequestawaitsyou.com/event/the-quest-wednesdays-theme-light-lounge-14/
LOCATION:Online event
CATEGORIES:Quest Wednesdays
ATTACH;FMTTYPE=image/jpeg:https://www.staging.thequestawaitsyou.com/wp-content/uploads/2022/02/1024x576-O5QEnd.tmp_.jpg
GEO:-8.521147;179.1962
END:VEVENT
BEGIN:VEVENT
DTSTART;TZID=+01:00:20220724T100000
DTEND;TZID=+01:00:20220724T120000
DTSTAMP:20260420T083620
CREATED:20220612T192614Z
LAST-MODIFIED:20220722T192801Z
UID:10000258-1658656800-1658664000@www.staging.thequestawaitsyou.com
SUMMARY:Remarkable Men - Soulful Sunday Sessions
DESCRIPTION:SHAKEN AUTHENTICITY \nWhat you do you do when events outside your control question or shake your authenticity? Do you revert to old familiar (perhaps outdated) ways of being\, or set an intention to feel discomfort and set out to find new ways of being? Do you hide parts of you away or stand courageously even when there are no guarantees that others will stand with you? \nThis gathering will be a topical conversation about authenticity\, the effect of the pandemic and other world and domestic events\, isolation\, connection / disconnection\, health and long term changes both in our selves and in our lives. \nHow did we cope\, how are we coping now\, what has changed and is this for the better or is it more challenging? \nHas it brought you more in touch with your own authenticity or moved you further away from it? Has it made you braver or more fearful? Has it clarified or confused? \nAs gay / bi men has it affected us in particular ways? \nWhen we hold on to blame\, shame\, resentments\, or hustle for our worth through sacrificing our truest nature we move away from our authenticity. By understanding our stories we get to choose if we want to keep them or change them. \nRemarkable men has been through some changes over the last 3 years. \nIt is time now for another change\, a move back to in person meetings\, once a month. \nRemarkable Men is a facilitated space where a rich\, diverse range of Gay men meet to explore a topic that impacts our lives. \nDo you want to start Sundays feeling revived + invigorated?\nDo you crave a more interesting type of conversation?\nDo you want to connect in an open and non judgemental environment?\nDo you want to deepen your understanding of yourself? \nThe group was started by Darren Brady and is now run by Jonathan Ward who is a Courage Coach and certified to deliver the programs of Dr Brené Brown. He will guide the group in some fascinating conversations. \nNow in its 6th amazing year\, this Sunday ‘drop in’ group lifts the spirit\, emboldens and helps connect Gay men. \nWho is it for: Anyone who is curious\, open and committed to their self development is welcome to try out this group. \nWhat to bring: Curiosity\, life experience\, openness\, honesty and warmth! \nImportant to know:\nPayment on the day in cash please\n£15 waged\n£10 unwaged/retired/concessions
URL:https://www.staging.thequestawaitsyou.com/event/remarkable-men-soulful-sunday-sessions-18/
LOCATION:Speakers’ Corner\, London\, W2 2EU\, gb
ATTACH;FMTTYPE=image/jpeg:https://www.staging.thequestawaitsyou.com/wp-content/uploads/2022/02/1024x576-4Sz5le.tmp_.jpg
GEO:51.510998;-0.158743
END:VEVENT
END:VCALENDAR