BEGIN:VCALENDAR
VERSION:2.0
PRODID:-//The Quest - ECPv6.8.2.1//NONSGML v1.0//EN
CALSCALE:GREGORIAN
METHOD:PUBLISH
X-ORIGINAL-URL:https://www.staging.thequestawaitsyou.com
X-WR-CALDESC:Events for The Quest
REFRESH-INTERVAL;VALUE=DURATION:PT1H
X-Robots-Tag:noindex
X-PUBLISHED-TTL:PT1H
BEGIN:VTIMEZONE
TZID:UTC
BEGIN:STANDARD
TZOFFSETFROM:+0000
TZOFFSETTO:+0000
TZNAME:UTC
DTSTART:20160101T000000
END:STANDARD
END:VTIMEZONE
BEGIN:VEVENT
DTSTART;TZID=UTC:20190518T100000
DTEND;TZID=UTC:20190519T173000
DTSTAMP:20260422T181337
CREATED:20181203T130210Z
LAST-MODIFIED:20181203T130439Z
UID:10000167-1558173600-1558287000@www.staging.thequestawaitsyou.com
SUMMARY:Rising Strong™ Workshop (2019)
DESCRIPTION:Rising Strong™ Workshop (2019)\nSaturday 18th May – Sunday 19th May\, 10am – 5.30pm \n“The truth is that falling hurts. The dare is to keep being brave and feel your way back up” – Brené Brown \nRising Strong™ is a process based on the research of Dr. Brené Brown. Her pioneering work uncovered a profound truth: Vulnerability – the willingness to show up and be seen with no guarantee of outcome – is the only path to more love\, belonging\, creativity and joy. But living a brave life is not always easy: We are inevitably going to stumble and fall. \nThe Rising Strong™ process is about what it takes to get back up and how owning our stories of struggle gives us the power to write a daring new ending. \n\n  \nRising Strong™ Workshop \nWe all go through struggle – asking somebody out that does not want us\, expressing our feelings and not being understood\, saying something at work that didn’t land very well; the list is endless – failing feels painful and can trigger shame\, disappointment and a whole range of emotions and thoughts. \nSometimes we avoid pursuing our heart desires because we fear failing. And sometimes when we do\, we don’t get back up and we give up. But if we want to break away from the crowd and live wholehearted lives\, we have to be courageous and different; doing this inevitable means we will sometimes fall. \nThis workshop is all about learning to get back up and how to become a highly resilient individual. How do we bounce back from failure? How do you recover from being exposed?   \n  \nBy taking part in the Rising Strong™ Workshop you will learn how to apply the Rising Strong™ process to your day-to-day life and become empowered to write wholehearted new endings to your stories. You will also: \n\nBecome familiar with the physics of vulnerability and the ten rules of engagement for rising strong.\nIdentify the values that are most important in your life and learn why values clarification is essential to the development of resiliency.\nBecome familiar with the Rising Strong process and goals – rise from our falls\, overcome our mistakes\, and face hurt in a way that brings more wisdom and wholeheartedness to our lives.\nRaise your awareness about: the feelings associated with emotions\, your response to emotion\, and how emotion\, thought\, and behavior are interconnected.\nPractice and build skills to engage with and experience emotion\, including mindfulness and breathing.\nDeepen your emotional vocabulary and self-awareness\nComprehend that as humans\, we have meaning-making in our biology and are compelled to make up stories – even if they are based on incomplete information.\nReclaim and integrate orphaned parts of yourself and celebrate that wholeness through creative expression.\n\n  \nThe Rising Strong™ workshop is an interactive mix of – \n\nPsycho experiential and educational exploration\nViewings of videos from Brené\, created specifically for Rising Strong™\nStorytelling\nGroup discussions\nCreative exercises\nCoaching\nSelf reflection and inquiry\n\nIncluded in the registration fee – \n\nYour personal Rising Strong™ workbook\nLight refreshments during the weekend\nPost workshop activity\nOne 50 min Skype coaching session with one of the facilitators (to take place within 3 months of completion of the workshop)\n\n\nDate: \nSaturday 18th May – Sunday 19th May\, 10am – 5.30pm \nVenue: \nOld Diorama Art Centre\, 201 Drummond Street\, Regents Place\, NW1 3FE \nFacilitators:  \nAde Adeniji and Darren Brady – Certified Daring Way™ Facilitators. \nwww.daringeurope.com \n\nABOUT BRENÉ BROWN \nDr. Brené Brown is a research professor at the University of Houston where she holds the Huffington Brené Brown Endowed Chair at the Graduate College of Social Work. She has spent the past fifteen years studying courage\, vulnerability\, shame\, and empathy and is the author of three #1 New York Times Bestsellers: The Gifts of Imperfection\, Daring Greatly\, and Rising Strong. \nHer TED talk – The Power of Vulnerability – is one of the top five most viewed TED talks in the world\, with over 25 million viewers. \nBrené is the Founder and CEO for The Daring Way™\, COURAGEworks – an online learning platform that offers classes for individuals and families on braver living and loving\, and BRAVE LEADERS INC – a platform that brings her latest research on leadership development and culture change to teams\, leaders\, entrepreneurs\, change makers\, and culture shifters. \nBrené lives in Houston\, Texas with her husband\, Steve\, and their children Ellen and Charlie. \nFurther information is available at www.brenebrown.com. \nDaring Europe\n\nThe Daring Way™ is a highly experiential methodology based on the research of Dr. Brené Brown. This event will be facilitated byAde Adeniji and Darren Brady – Certified Daring Way Facilitators. \nThe Daring Way™ method was designed for work with individuals\, couples\, families\, work teams\, and organizational leaders. It can be facilitated in clinical\, educational\, and professional settings. During the process we explore topics such as vulnerability\, courage\, shame\, and worthiness. We examine the thoughts\, emotions\, and behaviors that are holding us back and we identify the new choices and practices that will move us toward more authentic and wholehearted living. \nThe primary focus is on developing shame resilience skills and developing daily practices that transform the way we live\, love\, parent\, and lead. \nFurther information is available at www.thedaringway.com. \n\n  \nTicket Information\nBUY TICKETS HERE
URL:https://www.staging.thequestawaitsyou.com/event/rising-strong-workshop-2019-may/
LOCATION:Old Diorama Art Centre\, 201 Drummond Street \, Regents Place\, London\, UK\, NW1 3FE\, United Kingdom
CATEGORIES:Rising Strong Program
END:VEVENT
BEGIN:VEVENT
DTSTART;TZID=UTC:20180324T100000
DTEND;TZID=UTC:20180325T173000
DTSTAMP:20260422T181337
CREATED:20180123T165743Z
LAST-MODIFIED:20180123T170527Z
UID:10000164-1521885600-1521999000@www.staging.thequestawaitsyou.com
SUMMARY:Rising Strong™ Workshop (2018)
DESCRIPTION:Rising Strong™ Workshop (2018)\nMarch: Saturday\, 24th at 19:00 – Sunday\, 25th at 17:30 \n“The truth is that falling hurts. The dare is to keep being brave and feel your way back up” – Brené Brown \nRising Strong™ is a process based on the research of Dr. Brené Brown. Her pioneering work uncovered a profound truth: Vulnerability – the willingness to show up and be seen with no guarantee of outcome – is the only path to more love\, belonging\, creativity and joy. But living a brave life is not always easy: We are inevitably going to stumble and fall. \nThe Rising Strong™ process is about what it takes to get back up and how owning our stories of struggle gives us the power to write a daring new ending. \n\n  \nRising Strong™ Workshop \nWe all go through struggle – asking somebody out that does not want us\, expressing our feelings and not being understood\, saying something at work that didn’t land very well; the list is endless – failing feels painful and can trigger shame\, disappointment and a whole range of emotions and thoughts. \nSometimes we avoid pursuing our heart desires because we fear failing. And sometimes when we do\, we don’t get back up and we give up. But if we want to break away from the crowd and live wholehearted lives\, we have to be courageous and different; doing this inevitable means we will sometimes fall. \nThis workshop is all about learning to get back up and how to become a highly resilient individual. How do we bounce back from failure? How do you recover from being exposed?   \n  \nBy taking part in the Rising Strong™ Workshop you will learn how to apply the Rising Strong™ process to your day-to-day life and become empowered to write wholehearted new endings to your stories. You will also: \n\nBecome familiar with the physics of vulnerability and the ten rules of engagement for rising strong.\nIdentify the values that are most important in your life and learn why values clarification is essential to the development of resiliency.\nBecome familiar with the Rising Strong process and goals – rise from our falls\, overcome our mistakes\, and face hurt in a way that brings more wisdom and wholeheartedness to our lives.\nRaise your awareness about: the feelings associated with emotions\, your response to emotion\, and how emotion\, thought\, and behavior are interconnected.\nPractice and build skills to engage with and experience emotion\, including mindfulness and breathing.\nDeepen your emotional vocabulary and self-awareness\nComprehend that as humans\, we have meaning-making in our biology and are compelled to make up stories – even if they are based on incomplete information.\nReclaim and integrate orphaned parts of yourself and celebrate that wholeness through creative expression.\n\n  \nThe Rising Strong™ workshop is an interactive mix of – \n\nPsycho experiential and educational exploration\nViewings of videos from Brené\, created specifically for Rising Strong™\nStorytelling\nGroup discussions\nCreative exercises\nCoaching\nSelf reflection and inquiry\n\nIncluded in the registration fee – \n\nYour personal Rising Strong™ workbook\nLight refreshments during the weekend\nPost workshop activity\nOne 50 min Skype coaching session with one of the facilitators (to take place within 3 months of completion of the workshop)\n\n\nDate: \nSaturday 24 March 2018 (10am – 6pm) and Sunday 25 March 2018 (10am – 5.30pm) \nVenue: \nEffra Space\, 21 Effra Parade\, London SW2 1PX.  \nEffra Space is located in South London between Brixton and Herne Hill\, and is easily reached by public transport. \nNearest tube: Brixton (Victoria Line) (10 minutes walk)\nNearest train: Herne Hill (8 minutes walk)\, Brixton (10 minutes walk)\nBuses: 3\, 37 & 196 (Effra Parade stop\, 1 minute walk); 2\, 415\, 432 (Brixton Water Lane stop\, 3 minutes walk)​\n​Parking: free street parking at weekends. \nFacilitators: Ade Adeniji and Darren Brady – Certified Daring Way™ Facilitators. \nwww.daringeurope.com \n\nABOUT BRENÉ BROWN \nDr. Brené Brown is a research professor at the University of Houston where she holds the Huffington Brené Brown Endowed Chair at the Graduate College of Social Work. She has spent the past fifteen years studying courage\, vulnerability\, shame\, and empathy and is the author of three #1 New York Times Bestsellers: The Gifts of Imperfection\, Daring Greatly\, and Rising Strong. \nHer TED talk – The Power of Vulnerability – is one of the top five most viewed TED talks in the world\, with over 25 million viewers. \nBrené is the Founder and CEO for The Daring Way™\, COURAGEworks – an online learning platform that offers classes for individuals and families on braver living and loving\, and BRAVE LEADERS INC – a platform that brings her latest research on leadership development and culture change to teams\, leaders\, entrepreneurs\, change makers\, and culture shifters. \nBrené lives in Houston\, Texas with her husband\, Steve\, and their children Ellen and Charlie. \nFurther information is available at www.brenebrown.com. \nDaring Europe\n\nThe Daring Way™ is a highly experiential methodology based on the research of Dr. Brené Brown. This event will be facilitated byAde Adeniji and Darren Brady – Certified Daring Way Facilitators. \nThe Daring Way™ method was designed for work with individuals\, couples\, families\, work teams\, and organizational leaders. It can be facilitated in clinical\, educational\, and professional settings. During the process we explore topics such as vulnerability\, courage\, shame\, and worthiness. We examine the thoughts\, emotions\, and behaviors that are holding us back and we identify the new choices and practices that will move us toward more authentic and wholehearted living. \nThe primary focus is on developing shame resilience skills and developing daily practices that transform the way we live\, love\, parent\, and lead. \nFurther information is available at www.thedaringway.com. \n\n  \n\n\nTicket Information\n\n\n\n\n\n\nTICKET TYPE\nSALES END\nPRICE\nFEE\nQUANTITY\n\n\nStandard – Early Bird\n25 Feb 2018\n£355.00\n£0.00\nTicket Quantity Select01\n\n\nReduced – Early Bird \nLow-Waged\, Unemployed\, Retired\, Students\, Disability Allowance\n\n25 Feb 2018\n£255.00\n£0.00\nTicket Quantity Select01\n\n\nStandard\nNot Started\n£395.00\n£0.00\nN/A\n\n\nReduced   more info\nNot Started\n£295.00\n£0.00\nN/A\n\n\nBursary / Scholarship   more info\n24 Mar 2018\n£100.00\n£0.00\n\n\n\nBUY TICKETS HERE
URL:https://www.staging.thequestawaitsyou.com/event/rising-strong-workshop-2018-march/
LOCATION:Effra Space\, 21 Effra Parade\, London\, UK\, SW2 1PX\, United Kingdom
CATEGORIES:Rising Strong Program
END:VEVENT
BEGIN:VEVENT
DTSTART;TZID=UTC:20171004T190000
DTEND;TZID=UTC:20171004T210000
DTSTAMP:20260422T181337
CREATED:20170112T172015Z
LAST-MODIFIED:20170112T172015Z
UID:10000163-1507143600-1507150800@www.staging.thequestawaitsyou.com
SUMMARY:The Daring Way™ and Rising Strong™ - Introduction Evening
DESCRIPTION:The Daring Way™ is a highly experiential methodology based on the research of Dr. Brené Brown. This event will be facilitated by Ade Adeniji and Darren Brady – Certified Daring Way Facilitators. \nThe Daring Way™ method was designed for work with individuals\, couples\, families\, work teams\, and organizational leaders. It can be facilitated in clinical\, educational\, and professional settings. During the process we explore topics such as vulnerability\, courage\, shame\, and worthiness. We examine the thoughts\, emotions\, and behaviors that are holding us back and we identify the new choices and practices that will move us toward more authentic and wholehearted living. \nThe primary focus is on developing shame resilience skills and developing daily practices that transform the way we live\, love\, parent\, and lead. \nFurther information is available at www.thedaringway.com. \nBuy tickets here.
URL:https://www.staging.thequestawaitsyou.com/event/daring-way-rising-strong-introduction-evening-4/
LOCATION:The School of Social Entrepreneurs\, The Fire Station\, 139 Tooley Street\, London\, SE1 2HZ\, United Kingdom
CATEGORIES:Daring Way Program,Rising Strong Program
END:VEVENT
BEGIN:VEVENT
DTSTART;TZID=UTC:20170923T100000
DTEND;TZID=UTC:20170924T173000
DTSTAMP:20260422T181337
CREATED:20170111T142104Z
LAST-MODIFIED:20170111T142119Z
UID:10000159-1506160800-1506274200@www.staging.thequestawaitsyou.com
SUMMARY:Rising Strong Program
DESCRIPTION:(doors open at 9.30am)
URL:https://www.staging.thequestawaitsyou.com/event/rising-strong-program-4/
LOCATION:The School of Social Entrepreneurs\, The Fire Station\, 139 Tooley Street\, London\, SE1 2HZ\, United Kingdom
CATEGORIES:Rising Strong Program
END:VEVENT
BEGIN:VEVENT
DTSTART;TZID=UTC:20170906T190000
DTEND;TZID=UTC:20170906T210000
DTSTAMP:20260422T181337
CREATED:20170112T171949Z
LAST-MODIFIED:20170112T171949Z
UID:10000162-1504724400-1504731600@www.staging.thequestawaitsyou.com
SUMMARY:The Daring Way™ and Rising Strong™ - Introduction Evening
DESCRIPTION:The Daring Way™ is a highly experiential methodology based on the research of Dr. Brené Brown. This event will be facilitated by Ade Adeniji and Darren Brady – Certified Daring Way Facilitators. \nThe Daring Way™ method was designed for work with individuals\, couples\, families\, work teams\, and organizational leaders. It can be facilitated in clinical\, educational\, and professional settings. During the process we explore topics such as vulnerability\, courage\, shame\, and worthiness. We examine the thoughts\, emotions\, and behaviors that are holding us back and we identify the new choices and practices that will move us toward more authentic and wholehearted living. \nThe primary focus is on developing shame resilience skills and developing daily practices that transform the way we live\, love\, parent\, and lead. \nFurther information is available at www.thedaringway.com. \nBuy tickets here.
URL:https://www.staging.thequestawaitsyou.com/event/daring-way-rising-strong-introduction-evening-3/
LOCATION:The School of Social Entrepreneurs\, The Fire Station\, 139 Tooley Street\, London\, SE1 2HZ\, United Kingdom
CATEGORIES:Daring Way Program,Rising Strong Program
END:VEVENT
BEGIN:VEVENT
DTSTART;TZID=UTC:20170506T100000
DTEND;TZID=UTC:20170507T173000
DTSTAMP:20260422T181337
CREATED:20170111T142038Z
LAST-MODIFIED:20170111T142038Z
UID:10000158-1494064800-1494178200@www.staging.thequestawaitsyou.com
SUMMARY:Rising Strong Program
DESCRIPTION:(doors open at 9.30am)
URL:https://www.staging.thequestawaitsyou.com/event/rising-strong-program-3/
LOCATION:The School of Social Entrepreneurs\, The Fire Station\, 139 Tooley Street\, London\, SE1 2HZ\, United Kingdom
CATEGORIES:Rising Strong Program
END:VEVENT
BEGIN:VEVENT
DTSTART;TZID=UTC:20170503T190000
DTEND;TZID=UTC:20170503T210000
DTSTAMP:20260422T181337
CREATED:20170112T171925Z
LAST-MODIFIED:20170112T171925Z
UID:10000161-1493838000-1493845200@www.staging.thequestawaitsyou.com
SUMMARY:The Daring Way™ and Rising Strong™ - Introduction Evening
DESCRIPTION:The Daring Way™ is a highly experiential methodology based on the research of Dr. Brené Brown. This event will be facilitated by Ade Adeniji and Darren Brady – Certified Daring Way Facilitators. \nThe Daring Way™ method was designed for work with individuals\, couples\, families\, work teams\, and organizational leaders. It can be facilitated in clinical\, educational\, and professional settings. During the process we explore topics such as vulnerability\, courage\, shame\, and worthiness. We examine the thoughts\, emotions\, and behaviors that are holding us back and we identify the new choices and practices that will move us toward more authentic and wholehearted living. \nThe primary focus is on developing shame resilience skills and developing daily practices that transform the way we live\, love\, parent\, and lead. \nFurther information is available at www.thedaringway.com. \nBuy tickets here.
URL:https://www.staging.thequestawaitsyou.com/event/daring-way-rising-strong-introduction-evening-2/
LOCATION:The School of Social Entrepreneurs\, The Fire Station\, 139 Tooley Street\, London\, SE1 2HZ\, United Kingdom
CATEGORIES:Daring Way Program,Rising Strong Program
END:VEVENT
BEGIN:VEVENT
DTSTART;TZID=UTC:20170221T190000
DTEND;TZID=UTC:20170221T210000
DTSTAMP:20260422T181337
CREATED:20170112T171842Z
LAST-MODIFIED:20170112T171858Z
UID:10000160-1487703600-1487710800@www.staging.thequestawaitsyou.com
SUMMARY:The Daring Way™ and Rising Strong™ - Introduction Evening
DESCRIPTION:The Daring Way™ is a highly experiential methodology based on the research of Dr. Brené Brown. This event will be facilitated by Ade Adeniji and Darren Brady – Certified Daring Way Facilitators. \nThe Daring Way™ method was designed for work with individuals\, couples\, families\, work teams\, and organizational leaders. It can be facilitated in clinical\, educational\, and professional settings. During the process we explore topics such as vulnerability\, courage\, shame\, and worthiness. We examine the thoughts\, emotions\, and behaviors that are holding us back and we identify the new choices and practices that will move us toward more authentic and wholehearted living. \nThe primary focus is on developing shame resilience skills and developing daily practices that transform the way we live\, love\, parent\, and lead. \nFurther information is available at www.thedaringway.com. \nBuy tickets here.
URL:https://www.staging.thequestawaitsyou.com/event/daring-way-rising-strong-introduction-evening/
LOCATION:The School of Social Entrepreneurs\, The Fire Station\, 139 Tooley Street\, London\, SE1 2HZ\, United Kingdom
CATEGORIES:Daring Way Program,Rising Strong Program
END:VEVENT
BEGIN:VEVENT
DTSTART;TZID=UTC:20161016T100000
DTEND;TZID=UTC:20161016T173000
DTSTAMP:20260422T181337
CREATED:20160609T154050Z
LAST-MODIFIED:20160609T154050Z
UID:10000117-1476612000-1476639000@www.staging.thequestawaitsyou.com
SUMMARY:Rising Strong Program
DESCRIPTION:(doors open at 9.30am)
URL:https://www.staging.thequestawaitsyou.com/event/rising-strong-program-2/
LOCATION:The School of Social Entrepreneurs\, The Fire Station\, 139 Tooley Street\, London\, SE1 2HZ\, United Kingdom
CATEGORIES:Rising Strong Program
END:VEVENT
BEGIN:VEVENT
DTSTART;TZID=UTC:20161015T100000
DTEND;TZID=UTC:20161015T180000
DTSTAMP:20260422T181337
CREATED:20160609T154012Z
LAST-MODIFIED:20160609T154012Z
UID:10000116-1476525600-1476554400@www.staging.thequestawaitsyou.com
SUMMARY:Rising Strong Program
DESCRIPTION:(doors open at 9.30am)
URL:https://www.staging.thequestawaitsyou.com/event/rising-strong-program/
LOCATION:The School of Social Entrepreneurs\, The Fire Station\, 139 Tooley Street\, London\, SE1 2HZ\, United Kingdom
CATEGORIES:Rising Strong Program
END:VEVENT
END:VCALENDAR