BEGIN:VCALENDAR
VERSION:2.0
PRODID:-//The Quest - ECPv6.8.2.1//NONSGML v1.0//EN
CALSCALE:GREGORIAN
METHOD:PUBLISH
X-ORIGINAL-URL:https://www.staging.thequestawaitsyou.com
X-WR-CALDESC:Events for The Quest
REFRESH-INTERVAL;VALUE=DURATION:PT1H
X-Robots-Tag:noindex
X-PUBLISHED-TTL:PT1H
BEGIN:VTIMEZONE
TZID:+01:00
END:VTIMEZONE
BEGIN:VEVENT
DTSTART;TZID=+01:00:20231021T110000
DTEND;TZID=+01:00:20231021T123000
DTSTAMP:20260420T102517
CREATED:20231011T203600Z
LAST-MODIFIED:20231021T120841Z
UID:10000321-1697886000-1697891400@www.staging.thequestawaitsyou.com
SUMMARY:Actual Self vs Perceived Self
DESCRIPTION:The Quest Mosaic are facilitated gatherings for Black\, Asian and Other Racialised Minority gay\, bi & queer men coming together to connect\, share experiences and build community. \nEach session has a different theme as the focal point\, with opportunities for attendees to participate in small breakout groups to muse\, reflect and respond to some exploratory questions. \nEach gathering is self-contained\, so attendees don’t need to have attended previous sessions. \nThe sessions are facilitated by Ade Adeniji & Sonny Thaker. \nThe theme for 21 October 2023 is ‘Actual Self vs Perceived Self’ – How I see myself vs how others see me). \nYou need to register on Zoom to confirm attendance\, you can do so here\n[https://us02web.zoom.us/meeting/register/tZ0pcO-tqjojGNfUCSsYimHuqUXdRUG_yk89#/registration](https://us02web.zoom.us/meeting/register/tZ0pcO-tqjojGNfUCSsYimHuqUXdRUG_yk89#/registration)
URL:https://www.staging.thequestawaitsyou.com/event/actual-self-vs-perceived-self/
LOCATION:Online event
CATEGORIES:Quest Mosaic
ATTACH;FMTTYPE=image/jpeg:https://www.staging.thequestawaitsyou.com/wp-content/uploads/2022/02/1024x576-byiaRf.tmp_.jpg
GEO:-8.521147;179.1962
END:VEVENT
END:VCALENDAR