BEGIN:VCALENDAR
VERSION:2.0
PRODID:-//The Quest - ECPv6.8.2.1//NONSGML v1.0//EN
CALSCALE:GREGORIAN
METHOD:PUBLISH
X-WR-CALNAME:The Quest
X-ORIGINAL-URL:https://www.staging.thequestawaitsyou.com
X-WR-CALDESC:Events for The Quest
REFRESH-INTERVAL;VALUE=DURATION:PT1H
X-Robots-Tag:noindex
X-PUBLISHED-TTL:PT1H
BEGIN:VTIMEZONE
TZID:+01:00
END:VTIMEZONE
BEGIN:VEVENT
DTSTART;TZID=+01:00:20220709T110000
DTEND;TZID=+01:00:20220709T123000
DTSTAMP:20260420T012415
CREATED:20220410T205130Z
LAST-MODIFIED:20220830T130015Z
UID:10000244-1657364400-1657369800@www.staging.thequestawaitsyou.com
SUMMARY:Joy\, Joyful & Joyous
DESCRIPTION:The Quest Mosaic are facilitated gatherings for Black\, Asian and Other Racialised Minority gay\, bi & queer men coming together to connect\, share experiences and build community. \nEach session has a different theme as the focal point\, with opportunities for attendees to participate in small breakout groups to muse\, reflect and respond to some exploratory questions. \nEach gathering is self-contained\, so attendees don’t need to have attended previous sessions. \nThe sessions are facilitated by Ade Adeniji & Sonny Thaker. \nThe theme for 9 July 2022 is ‘Joy’ \nYou need to register on Zoom to confirm attendance\, you can do so here [https://us02web.zoom.us/meeting/register/tZEkce-grT8tHNR_Ds7yE6pd1ccI2HsoLGma](https://us02web.zoom.us/meeting/register/tZEkce-grT8tHNR_Ds7yE6pd1ccI2HsoLGma)
URL:https://www.staging.thequestawaitsyou.com/event/joy-joyful-joyous/
LOCATION:Online event
CATEGORIES:Quest Mosaic
ATTACH;FMTTYPE=image/jpeg:https://www.staging.thequestawaitsyou.com/wp-content/uploads/2022/02/1024x576-S7DasF.tmp_.jpg
GEO:-8.521147;179.1962
END:VEVENT
BEGIN:VEVENT
DTSTART;TZID=+01:00:20220709T110000
DTEND;TZID=+01:00:20220709T123000
DTSTAMP:20260420T012415
CREATED:20220517T201003Z
LAST-MODIFIED:20220830T130015Z
UID:10000256-1657364400-1657369800@www.staging.thequestawaitsyou.com
SUMMARY:Joy\, Joyful & Joyous
DESCRIPTION:The Quest Mosaic are facilitated gatherings for Black\, Asian and Other Racialised Minority gay\, bi & queer men coming together to connect\, share experiences and build community. \nEach session has a different theme as the focal point\, with opportunities for attendees to participate in small breakout groups to muse\, reflect and respond to some exploratory questions. \nEach gathering is self-contained\, so attendees don’t need to have attended previous sessions. \nThe sessions are facilitated by Ade Adeniji & Sonny Thaker. \nThe theme for 9 July 2022 is ‘Joy’ \nYou need to register on Zoom to confirm attendance\, you can do so here [https://us02web.zoom.us/meeting/register/tZEkce-grT8tHNR_Ds7yE6pd1ccI2HsoLGma](https://us02web.zoom.us/meeting/register/tZEkce-grT8tHNR_Ds7yE6pd1ccI2HsoLGma)
URL:https://www.staging.thequestawaitsyou.com/event/joy-joyful-joyous-2/
LOCATION:Online event
CATEGORIES:Quest Mosaic
ATTACH;FMTTYPE=image/jpeg:https://www.staging.thequestawaitsyou.com/wp-content/uploads/2022/02/1024x576-S7DasF.tmp_.jpg
GEO:-8.521147;179.1962
END:VEVENT
END:VCALENDAR